BEGIN:VCALENDAR
VERSION:2.0
PRODID:-//Ecole de Judo de Tresses - ECPv6.15.20//NONSGML v1.0//EN
CALSCALE:GREGORIAN
METHOD:PUBLISH
X-WR-CALNAME:Ecole de Judo de Tresses
X-ORIGINAL-URL:https://ecole-judo-tresses.fr
X-WR-CALDESC:Évènements pour Ecole de Judo de Tresses
REFRESH-INTERVAL;VALUE=DURATION:PT1H
X-Robots-Tag:noindex
X-PUBLISHED-TTL:PT1H
BEGIN:VTIMEZONE
TZID:Europe/Paris
BEGIN:DAYLIGHT
TZOFFSETFROM:+0100
TZOFFSETTO:+0200
TZNAME:CEST
DTSTART:20240331T010000
END:DAYLIGHT
BEGIN:STANDARD
TZOFFSETFROM:+0200
TZOFFSETTO:+0100
TZNAME:CET
DTSTART:20241027T010000
END:STANDARD
BEGIN:DAYLIGHT
TZOFFSETFROM:+0100
TZOFFSETTO:+0200
TZNAME:CEST
DTSTART:20250330T010000
END:DAYLIGHT
BEGIN:STANDARD
TZOFFSETFROM:+0200
TZOFFSETTO:+0100
TZNAME:CET
DTSTART:20251026T010000
END:STANDARD
BEGIN:DAYLIGHT
TZOFFSETFROM:+0100
TZOFFSETTO:+0200
TZNAME:CEST
DTSTART:20260329T010000
END:DAYLIGHT
BEGIN:STANDARD
TZOFFSETFROM:+0200
TZOFFSETTO:+0100
TZNAME:CET
DTSTART:20261025T010000
END:STANDARD
BEGIN:DAYLIGHT
TZOFFSETFROM:+0100
TZOFFSETTO:+0200
TZNAME:CEST
DTSTART:20270328T010000
END:DAYLIGHT
BEGIN:STANDARD
TZOFFSETFROM:+0200
TZOFFSETTO:+0100
TZNAME:CET
DTSTART:20271031T010000
END:STANDARD
END:VTIMEZONE
BEGIN:VEVENT
DTSTART;TZID=Europe/Paris:20260404T170000
DTEND;TZID=Europe/Paris:20260405T020000
DTSTAMP:20260421T154018
CREATED:20250823T150023Z
LAST-MODIFIED:20250823T150227Z
UID:1055-1775322000-1775354400@ecole-judo-tresses.fr
SUMMARY:Premier Loto du Judo
DESCRIPTION:Ne manquez pas le premier Loto du Judo !
URL:https://ecole-judo-tresses.fr/evenement/premier-loto-du-judo/
LOCATION:Salles du Reflet\, 19 Av. des Écoles\, Tresses\, 33370\, France
END:VEVENT
BEGIN:VEVENT
DTSTART;TZID=Europe/Paris:20250906T100000
DTEND;TZID=Europe/Paris:20250906T180000
DTSTAMP:20260421T154018
CREATED:20250730T080014Z
LAST-MODIFIED:20250823T145223Z
UID:1021-1757152800-1757181600@ecole-judo-tresses.fr
SUMMARY:Forum des Associations de Tresses
DESCRIPTION:Venez nombreux découvrir les activités du club de Judo\, tous nos bénévoles vous accueillent pour vous vendre la joie ineffable ressentie par tout nouvel adhérent\, car\, oui\, notre club est joyeux avant tout !!
URL:https://ecole-judo-tresses.fr/evenement/forum-des-asso/
LOCATION:Salles du Reflet\, 19 Av. des Écoles\, Tresses\, 33370\, France
CATEGORIES:Festifs
END:VEVENT
BEGIN:VEVENT
DTSTART;TZID=Europe/Paris:20250830T190000
DTEND;TZID=Europe/Paris:20250831T020000
DTSTAMP:20260421T154018
CREATED:20250730T085630Z
LAST-MODIFIED:20250823T145127Z
UID:1019-1756580400-1756605600@ecole-judo-tresses.fr
SUMMARY:Soirée Guinguette- Rentrée 2025-2026
DESCRIPTION:Le club de Judo vous attend à la Salle du Reflet pour vous servir soda\, grenadine\, café ou pression qui accompagneront vos plats et autres dégustations venus des food trucks présents pour cet évènement. Pensez à prendre vos chaussures de danse\, ça peut guincher en fin de soirée ! 
URL:https://ecole-judo-tresses.fr/evenement/marche-gourmand-rentree-2025-2026/
LOCATION:salle du reflet 33370 tresses\, 19 rue des écoles\, Tresses\, 33370\, France
CATEGORIES:Festifs
END:VEVENT
END:VCALENDAR